BEGIN:VCALENDAR
VERSION:2.0
PRODID:-//Al&#039;s Sports Bar - ECPv6.15.17//NONSGML v1.0//EN
CALSCALE:GREGORIAN
METHOD:PUBLISH
X-WR-CALNAME:Al&#039;s Sports Bar
X-ORIGINAL-URL:https://alsbar.com
X-WR-CALDESC:Events for Al&#039;s Sports Bar
REFRESH-INTERVAL;VALUE=DURATION:PT1H
X-Robots-Tag:noindex
X-PUBLISHED-TTL:PT1H
BEGIN:VTIMEZONE
TZID:America/New_York
BEGIN:DAYLIGHT
TZOFFSETFROM:-0500
TZOFFSETTO:-0400
TZNAME:EDT
DTSTART:20250309T070000
END:DAYLIGHT
BEGIN:STANDARD
TZOFFSETFROM:-0400
TZOFFSETTO:-0500
TZNAME:EST
DTSTART:20251102T060000
END:STANDARD
BEGIN:DAYLIGHT
TZOFFSETFROM:-0500
TZOFFSETTO:-0400
TZNAME:EDT
DTSTART:20260308T070000
END:DAYLIGHT
BEGIN:STANDARD
TZOFFSETFROM:-0400
TZOFFSETTO:-0500
TZNAME:EST
DTSTART:20261101T060000
END:STANDARD
BEGIN:DAYLIGHT
TZOFFSETFROM:-0500
TZOFFSETTO:-0400
TZNAME:EDT
DTSTART:20270314T070000
END:DAYLIGHT
BEGIN:STANDARD
TZOFFSETFROM:-0400
TZOFFSETTO:-0500
TZNAME:EST
DTSTART:20271107T060000
END:STANDARD
END:VTIMEZONE
BEGIN:VEVENT
DTSTART;TZID=America/New_York:20260331T190000
DTEND;TZID=America/New_York:20260331T233000
DTSTAMP:20260425T233338
CREATED:20260214T102625Z
LAST-MODIFIED:20260304T133328Z
UID:10000028-1774983600-1774999800@alsbar.com
SUMMARY:Poker Tournament
DESCRIPTION:
URL:https://alsbar.com/event/poker-competition/2026-03-31/
LOCATION:Al’s Sports Bar\, 16203 Westheimer Rd. #102\, Houston\, TX\, 77082\, United States
ATTACH;FMTTYPE=image/webp:https://alsbar.com/wp-content/uploads/2026/02/gettyimages-155357505-2048x2048-1.webp
END:VEVENT
BEGIN:VEVENT
DTSTART;TZID=America/New_York:20260331T190000
DTEND;TZID=America/New_York:20260331T233000
DTSTAMP:20260425T233338
CREATED:20260304T151852Z
LAST-MODIFIED:20260304T152654Z
UID:10002875-1774983600-1774999800@alsbar.com
SUMMARY:Teddy's Smokin' Grill
DESCRIPTION:His food will make you fall in love with him\, and you’ll have a new friend!
URL:https://alsbar.com/event/teddys-smokin-grill/2026-03-31/
LOCATION:Al’s Sports Bar\, 16203 Westheimer Rd. #102\, Houston\, TX\, 77082\, United States
ATTACH;FMTTYPE=image/png:https://alsbar.com/wp-content/uploads/2026/03/1000034029.png
END:VEVENT
BEGIN:VEVENT
DTSTART;TZID=America/New_York:20260401T173000
DTEND;TZID=America/New_York:20260401T200000
DTSTAMP:20260425T233338
CREATED:20260304T134450Z
LAST-MODIFIED:20260304T230709Z
UID:10004446-1775064600-1775073600@alsbar.com
SUMMARY:BINGO!
DESCRIPTION:Weekly Bingo! Cheap to play\, and you can WIN!
URL:https://alsbar.com/event/bingo/2026-04-01/
LOCATION:Al’s Sports Bar\, 16203 Westheimer Rd. #102\, Houston\, TX\, 77082\, United States
ATTACH;FMTTYPE=image/jpeg:https://alsbar.com/wp-content/uploads/2026/03/bingo-balls.jpg
END:VEVENT
BEGIN:VEVENT
DTSTART;TZID=America/New_York:20260401T173000
DTEND;TZID=America/New_York:20260401T200000
DTSTAMP:20260425T233338
CREATED:20260304T154102Z
LAST-MODIFIED:20260304T162353Z
UID:10003924-1775064600-1775073600@alsbar.com
SUMMARY:Willie P's Kick Ass Pizza!
DESCRIPTION:Serving until they run out!
URL:https://alsbar.com/event/willie-ps-kick-ass-pizza/2026-04-01/
LOCATION:TX
ATTACH;FMTTYPE=image/jpeg:https://alsbar.com/wp-content/uploads/2026/03/ec3fc708-f885-4bd3-8721-95aede2c82b6.jpg
END:VEVENT
BEGIN:VEVENT
DTSTART;TZID=America/New_York:20260401T190000
DTEND;TZID=America/New_York:20260401T233000
DTSTAMP:20260425T233338
CREATED:20260214T102625Z
LAST-MODIFIED:20260304T133328Z
UID:10000029-1775070000-1775086200@alsbar.com
SUMMARY:Poker Tournament
DESCRIPTION:
URL:https://alsbar.com/event/poker-competition/2026-04-01/
LOCATION:Al’s Sports Bar\, 16203 Westheimer Rd. #102\, Houston\, TX\, 77082\, United States
ATTACH;FMTTYPE=image/webp:https://alsbar.com/wp-content/uploads/2026/02/gettyimages-155357505-2048x2048-1.webp
END:VEVENT
BEGIN:VEVENT
DTSTART;TZID=America/New_York:20260402T190000
DTEND;TZID=America/New_York:20260402T233000
DTSTAMP:20260425T233338
CREATED:20260214T102625Z
LAST-MODIFIED:20260304T133328Z
UID:10000030-1775156400-1775172600@alsbar.com
SUMMARY:Poker Tournament
DESCRIPTION:
URL:https://alsbar.com/event/poker-competition/2026-04-02/
LOCATION:Al’s Sports Bar\, 16203 Westheimer Rd. #102\, Houston\, TX\, 77082\, United States
ATTACH;FMTTYPE=image/webp:https://alsbar.com/wp-content/uploads/2026/02/gettyimages-155357505-2048x2048-1.webp
END:VEVENT
BEGIN:VEVENT
DTSTART;TZID=America/New_York:20260403T190000
DTEND;TZID=America/New_York:20260403T233000
DTSTAMP:20260425T233338
CREATED:20260214T102625Z
LAST-MODIFIED:20260304T133328Z
UID:10000031-1775242800-1775259000@alsbar.com
SUMMARY:Poker Tournament
DESCRIPTION:
URL:https://alsbar.com/event/poker-competition/2026-04-03/
LOCATION:Al’s Sports Bar\, 16203 Westheimer Rd. #102\, Houston\, TX\, 77082\, United States
ATTACH;FMTTYPE=image/webp:https://alsbar.com/wp-content/uploads/2026/02/gettyimages-155357505-2048x2048-1.webp
END:VEVENT
BEGIN:VEVENT
DTSTART;TZID=America/New_York:20260404T190000
DTEND;TZID=America/New_York:20260404T233000
DTSTAMP:20260425T233338
CREATED:20260214T102625Z
LAST-MODIFIED:20260304T133328Z
UID:10000032-1775329200-1775345400@alsbar.com
SUMMARY:Poker Tournament
DESCRIPTION:
URL:https://alsbar.com/event/poker-competition/2026-04-04/
LOCATION:Al’s Sports Bar\, 16203 Westheimer Rd. #102\, Houston\, TX\, 77082\, United States
ATTACH;FMTTYPE=image/webp:https://alsbar.com/wp-content/uploads/2026/02/gettyimages-155357505-2048x2048-1.webp
END:VEVENT
BEGIN:VEVENT
DTSTART;TZID=America/New_York:20260404T190000
DTEND;TZID=America/New_York:20260404T233000
DTSTAMP:20260425T233338
CREATED:20260317T140110Z
LAST-MODIFIED:20260317T140110Z
UID:10004709-1775329200-1775345400@alsbar.com
SUMMARY:UFC Fight Night
DESCRIPTION:Click here for the main fight page!
URL:https://alsbar.com/event/ufc-fight-night-4/
LOCATION:Al’s Sports Bar\, 16203 Westheimer Rd. #102\, Houston\, TX\, 77082\, United States
ATTACH;FMTTYPE=image/jpeg:https://alsbar.com/wp-content/uploads/2026/03/Untitled.jpg
END:VEVENT
BEGIN:VEVENT
DTSTART;TZID=America/New_York:20260405T190000
DTEND;TZID=America/New_York:20260405T233000
DTSTAMP:20260425T233338
CREATED:20260214T102625Z
LAST-MODIFIED:20260304T133328Z
UID:10000033-1775415600-1775431800@alsbar.com
SUMMARY:Poker Tournament
DESCRIPTION:
URL:https://alsbar.com/event/poker-competition/2026-04-05/
LOCATION:Al’s Sports Bar\, 16203 Westheimer Rd. #102\, Houston\, TX\, 77082\, United States
ATTACH;FMTTYPE=image/webp:https://alsbar.com/wp-content/uploads/2026/02/gettyimages-155357505-2048x2048-1.webp
END:VEVENT
BEGIN:VEVENT
DTSTART;VALUE=DATE:20260406
DTEND;VALUE=DATE:20260407
DTSTAMP:20260425T233338
CREATED:20260304T183540Z
LAST-MODIFIED:20260304T183540Z
UID:10004185-1775433600-1775519999@alsbar.com
SUMMARY:Free Pool!
DESCRIPTION:Free Pool all day on Mondays!
URL:https://alsbar.com/event/free-pool/2026-04-06/
LOCATION:Al’s Sports Bar\, 16203 Westheimer Rd. #102\, Houston\, TX\, 77082\, United States
ATTACH;FMTTYPE=image/jpeg:https://alsbar.com/wp-content/uploads/2026/03/billiards-main.jpg
END:VEVENT
BEGIN:VEVENT
DTSTART;TZID=America/New_York:20260406T183000
DTEND;TZID=America/New_York:20260406T220000
DTSTAMP:20260425T233338
CREATED:20260304T144621Z
LAST-MODIFIED:20260304T152224Z
UID:10003137-1775500200-1775512800@alsbar.com
SUMMARY:Steak Night!
DESCRIPTION:Join Eddie “The Grillfather” for a delicious Steak or Pork Chop!
URL:https://alsbar.com/event/steak-night/2026-04-06/
LOCATION:Al’s Sports Bar\, 16203 Westheimer Rd. #102\, Houston\, TX\, 77082\, United States
ATTACH;FMTTYPE=image/png:https://alsbar.com/wp-content/uploads/2026/03/1000034029.png
END:VEVENT
BEGIN:VEVENT
DTSTART;TZID=America/New_York:20260406T190000
DTEND;TZID=America/New_York:20260406T233000
DTSTAMP:20260425T233338
CREATED:20260214T102625Z
LAST-MODIFIED:20260304T133328Z
UID:10000034-1775502000-1775518200@alsbar.com
SUMMARY:Poker Tournament
DESCRIPTION:
URL:https://alsbar.com/event/poker-competition/2026-04-06/
LOCATION:Al’s Sports Bar\, 16203 Westheimer Rd. #102\, Houston\, TX\, 77082\, United States
ATTACH;FMTTYPE=image/webp:https://alsbar.com/wp-content/uploads/2026/02/gettyimages-155357505-2048x2048-1.webp
END:VEVENT
BEGIN:VEVENT
DTSTART;TZID=America/New_York:20260407T190000
DTEND;TZID=America/New_York:20260407T233000
DTSTAMP:20260425T233338
CREATED:20260214T102625Z
LAST-MODIFIED:20260304T133328Z
UID:10000035-1775588400-1775604600@alsbar.com
SUMMARY:Poker Tournament
DESCRIPTION:
URL:https://alsbar.com/event/poker-competition/2026-04-07/
LOCATION:Al’s Sports Bar\, 16203 Westheimer Rd. #102\, Houston\, TX\, 77082\, United States
ATTACH;FMTTYPE=image/webp:https://alsbar.com/wp-content/uploads/2026/02/gettyimages-155357505-2048x2048-1.webp
END:VEVENT
BEGIN:VEVENT
DTSTART;TZID=America/New_York:20260407T190000
DTEND;TZID=America/New_York:20260407T233000
DTSTAMP:20260425T233338
CREATED:20260304T151852Z
LAST-MODIFIED:20260304T152654Z
UID:10002876-1775588400-1775604600@alsbar.com
SUMMARY:Teddy's Smokin' Grill
DESCRIPTION:His food will make you fall in love with him\, and you’ll have a new friend!
URL:https://alsbar.com/event/teddys-smokin-grill/2026-04-07/
LOCATION:Al’s Sports Bar\, 16203 Westheimer Rd. #102\, Houston\, TX\, 77082\, United States
ATTACH;FMTTYPE=image/png:https://alsbar.com/wp-content/uploads/2026/03/1000034029.png
END:VEVENT
BEGIN:VEVENT
DTSTART;TZID=America/New_York:20260408T173000
DTEND;TZID=America/New_York:20260408T200000
DTSTAMP:20260425T233338
CREATED:20260304T134450Z
LAST-MODIFIED:20260304T230709Z
UID:10004447-1775669400-1775678400@alsbar.com
SUMMARY:BINGO!
DESCRIPTION:Weekly Bingo! Cheap to play\, and you can WIN!
URL:https://alsbar.com/event/bingo/2026-04-08/
LOCATION:Al’s Sports Bar\, 16203 Westheimer Rd. #102\, Houston\, TX\, 77082\, United States
ATTACH;FMTTYPE=image/jpeg:https://alsbar.com/wp-content/uploads/2026/03/bingo-balls.jpg
END:VEVENT
BEGIN:VEVENT
DTSTART;TZID=America/New_York:20260408T173000
DTEND;TZID=America/New_York:20260408T200000
DTSTAMP:20260425T233339
CREATED:20260304T154102Z
LAST-MODIFIED:20260304T162353Z
UID:10003925-1775669400-1775678400@alsbar.com
SUMMARY:Willie P's Kick Ass Pizza!
DESCRIPTION:Serving until they run out!
URL:https://alsbar.com/event/willie-ps-kick-ass-pizza/2026-04-08/
LOCATION:TX
ATTACH;FMTTYPE=image/jpeg:https://alsbar.com/wp-content/uploads/2026/03/ec3fc708-f885-4bd3-8721-95aede2c82b6.jpg
END:VEVENT
BEGIN:VEVENT
DTSTART;TZID=America/New_York:20260408T190000
DTEND;TZID=America/New_York:20260408T233000
DTSTAMP:20260425T233339
CREATED:20260214T102625Z
LAST-MODIFIED:20260304T133328Z
UID:10000036-1775674800-1775691000@alsbar.com
SUMMARY:Poker Tournament
DESCRIPTION:
URL:https://alsbar.com/event/poker-competition/2026-04-08/
LOCATION:Al’s Sports Bar\, 16203 Westheimer Rd. #102\, Houston\, TX\, 77082\, United States
ATTACH;FMTTYPE=image/webp:https://alsbar.com/wp-content/uploads/2026/02/gettyimages-155357505-2048x2048-1.webp
END:VEVENT
BEGIN:VEVENT
DTSTART;TZID=America/New_York:20260409T190000
DTEND;TZID=America/New_York:20260409T233000
DTSTAMP:20260425T233339
CREATED:20260214T102625Z
LAST-MODIFIED:20260304T133328Z
UID:10000037-1775761200-1775777400@alsbar.com
SUMMARY:Poker Tournament
DESCRIPTION:
URL:https://alsbar.com/event/poker-competition/2026-04-09/
LOCATION:Al’s Sports Bar\, 16203 Westheimer Rd. #102\, Houston\, TX\, 77082\, United States
ATTACH;FMTTYPE=image/webp:https://alsbar.com/wp-content/uploads/2026/02/gettyimages-155357505-2048x2048-1.webp
END:VEVENT
BEGIN:VEVENT
DTSTART;TZID=America/New_York:20260410T190000
DTEND;TZID=America/New_York:20260410T233000
DTSTAMP:20260425T233339
CREATED:20260214T102625Z
LAST-MODIFIED:20260304T133328Z
UID:10000038-1775847600-1775863800@alsbar.com
SUMMARY:Poker Tournament
DESCRIPTION:
URL:https://alsbar.com/event/poker-competition/2026-04-10/
LOCATION:Al’s Sports Bar\, 16203 Westheimer Rd. #102\, Houston\, TX\, 77082\, United States
ATTACH;FMTTYPE=image/webp:https://alsbar.com/wp-content/uploads/2026/02/gettyimages-155357505-2048x2048-1.webp
END:VEVENT
BEGIN:VEVENT
DTSTART;TZID=America/New_York:20260411T190000
DTEND;TZID=America/New_York:20260411T233000
DTSTAMP:20260425T233339
CREATED:20260214T102625Z
LAST-MODIFIED:20260304T133328Z
UID:10000039-1775934000-1775950200@alsbar.com
SUMMARY:Poker Tournament
DESCRIPTION:
URL:https://alsbar.com/event/poker-competition/2026-04-11/
LOCATION:Al’s Sports Bar\, 16203 Westheimer Rd. #102\, Houston\, TX\, 77082\, United States
ATTACH;FMTTYPE=image/webp:https://alsbar.com/wp-content/uploads/2026/02/gettyimages-155357505-2048x2048-1.webp
END:VEVENT
BEGIN:VEVENT
DTSTART;TZID=America/New_York:20260411T190000
DTEND;TZID=America/New_York:20260411T233000
DTSTAMP:20260425T233339
CREATED:20260317T140503Z
LAST-MODIFIED:20260317T140503Z
UID:10004710-1775934000-1775950200@alsbar.com
SUMMARY:UFC 327
DESCRIPTION:Click here for the main fight page!
URL:https://alsbar.com/event/ufc-327/
LOCATION:Al’s Sports Bar\, 16203 Westheimer Rd. #102\, Houston\, TX\, 77082\, United States
ATTACH;FMTTYPE=image/jpeg:https://alsbar.com/wp-content/uploads/2026/03/Untitled1.jpg
END:VEVENT
BEGIN:VEVENT
DTSTART;VALUE=DATE:20260412
DTEND;VALUE=DATE:20260413
DTSTAMP:20260425T233339
CREATED:20260408T152508Z
LAST-MODIFIED:20260408T152508Z
UID:10004715-1775952000-1776038399@alsbar.com
SUMMARY:Crawfish!
DESCRIPTION:ALL YOU CAN EAT! \nCrawfish\, Corn\, Potatoes\, Garlic\, Sausage\, Mushrooms… and anything you want me to throw in the water after I’m done cooking! \nplate must close completely for each trip. \n$30 in advance \n$40 Day-of \n 
URL:https://alsbar.com/event/crawfish/
LOCATION:Al’s Sports Bar\, 16203 Westheimer Rd. #102\, Houston\, TX\, 77082\, United States
ATTACH;FMTTYPE=image/webp:https://alsbar.com/wp-content/uploads/2026/04/boiled-crawfish-steamy-hot-deliciousness-600nw-2639522645.webp
END:VEVENT
BEGIN:VEVENT
DTSTART;TZID=America/New_York:20260412T190000
DTEND;TZID=America/New_York:20260412T233000
DTSTAMP:20260425T233339
CREATED:20260214T102625Z
LAST-MODIFIED:20260304T133328Z
UID:10000040-1776020400-1776036600@alsbar.com
SUMMARY:Poker Tournament
DESCRIPTION:
URL:https://alsbar.com/event/poker-competition/2026-04-12/
LOCATION:Al’s Sports Bar\, 16203 Westheimer Rd. #102\, Houston\, TX\, 77082\, United States
ATTACH;FMTTYPE=image/webp:https://alsbar.com/wp-content/uploads/2026/02/gettyimages-155357505-2048x2048-1.webp
END:VEVENT
BEGIN:VEVENT
DTSTART;VALUE=DATE:20260413
DTEND;VALUE=DATE:20260414
DTSTAMP:20260425T233339
CREATED:20260304T183540Z
LAST-MODIFIED:20260304T183540Z
UID:10004186-1776038400-1776124799@alsbar.com
SUMMARY:Free Pool!
DESCRIPTION:Free Pool all day on Mondays!
URL:https://alsbar.com/event/free-pool/2026-04-13/
LOCATION:Al’s Sports Bar\, 16203 Westheimer Rd. #102\, Houston\, TX\, 77082\, United States
ATTACH;FMTTYPE=image/jpeg:https://alsbar.com/wp-content/uploads/2026/03/billiards-main.jpg
END:VEVENT
BEGIN:VEVENT
DTSTART;TZID=America/New_York:20260413T183000
DTEND;TZID=America/New_York:20260413T220000
DTSTAMP:20260425T233339
CREATED:20260304T144621Z
LAST-MODIFIED:20260304T152224Z
UID:10003138-1776105000-1776117600@alsbar.com
SUMMARY:Steak Night!
DESCRIPTION:Join Eddie “The Grillfather” for a delicious Steak or Pork Chop!
URL:https://alsbar.com/event/steak-night/2026-04-13/
LOCATION:Al’s Sports Bar\, 16203 Westheimer Rd. #102\, Houston\, TX\, 77082\, United States
ATTACH;FMTTYPE=image/png:https://alsbar.com/wp-content/uploads/2026/03/1000034029.png
END:VEVENT
BEGIN:VEVENT
DTSTART;TZID=America/New_York:20260413T190000
DTEND;TZID=America/New_York:20260413T233000
DTSTAMP:20260425T233339
CREATED:20260214T102625Z
LAST-MODIFIED:20260304T133328Z
UID:10000041-1776106800-1776123000@alsbar.com
SUMMARY:Poker Tournament
DESCRIPTION:
URL:https://alsbar.com/event/poker-competition/2026-04-13/
LOCATION:Al’s Sports Bar\, 16203 Westheimer Rd. #102\, Houston\, TX\, 77082\, United States
ATTACH;FMTTYPE=image/webp:https://alsbar.com/wp-content/uploads/2026/02/gettyimages-155357505-2048x2048-1.webp
END:VEVENT
BEGIN:VEVENT
DTSTART;TZID=America/New_York:20260414T190000
DTEND;TZID=America/New_York:20260414T233000
DTSTAMP:20260425T233339
CREATED:20260214T102625Z
LAST-MODIFIED:20260304T133328Z
UID:10000042-1776193200-1776209400@alsbar.com
SUMMARY:Poker Tournament
DESCRIPTION:
URL:https://alsbar.com/event/poker-competition/2026-04-14/
LOCATION:Al’s Sports Bar\, 16203 Westheimer Rd. #102\, Houston\, TX\, 77082\, United States
ATTACH;FMTTYPE=image/webp:https://alsbar.com/wp-content/uploads/2026/02/gettyimages-155357505-2048x2048-1.webp
END:VEVENT
BEGIN:VEVENT
DTSTART;TZID=America/New_York:20260414T190000
DTEND;TZID=America/New_York:20260414T233000
DTSTAMP:20260425T233339
CREATED:20260304T151852Z
LAST-MODIFIED:20260304T152654Z
UID:10002877-1776193200-1776209400@alsbar.com
SUMMARY:Teddy's Smokin' Grill
DESCRIPTION:His food will make you fall in love with him\, and you’ll have a new friend!
URL:https://alsbar.com/event/teddys-smokin-grill/2026-04-14/
LOCATION:Al’s Sports Bar\, 16203 Westheimer Rd. #102\, Houston\, TX\, 77082\, United States
ATTACH;FMTTYPE=image/png:https://alsbar.com/wp-content/uploads/2026/03/1000034029.png
END:VEVENT
BEGIN:VEVENT
DTSTART;TZID=America/New_York:20260415T173000
DTEND;TZID=America/New_York:20260415T200000
DTSTAMP:20260425T233339
CREATED:20260304T134450Z
LAST-MODIFIED:20260304T230709Z
UID:10004448-1776274200-1776283200@alsbar.com
SUMMARY:BINGO!
DESCRIPTION:Weekly Bingo! Cheap to play\, and you can WIN!
URL:https://alsbar.com/event/bingo/2026-04-15/
LOCATION:Al’s Sports Bar\, 16203 Westheimer Rd. #102\, Houston\, TX\, 77082\, United States
ATTACH;FMTTYPE=image/jpeg:https://alsbar.com/wp-content/uploads/2026/03/bingo-balls.jpg
END:VEVENT
END:VCALENDAR