BEGIN:VCALENDAR
VERSION:2.0
PRODID:-//Al&#039;s Sports Bar - ECPv6.15.17//NONSGML v1.0//EN
CALSCALE:GREGORIAN
METHOD:PUBLISH
X-WR-CALNAME:Al&#039;s Sports Bar
X-ORIGINAL-URL:https://alsbar.com
X-WR-CALDESC:Events for Al&#039;s Sports Bar
REFRESH-INTERVAL;VALUE=DURATION:PT1H
X-Robots-Tag:noindex
X-PUBLISHED-TTL:PT1H
BEGIN:VTIMEZONE
TZID:America/New_York
BEGIN:DAYLIGHT
TZOFFSETFROM:-0500
TZOFFSETTO:-0400
TZNAME:EDT
DTSTART:20250309T070000
END:DAYLIGHT
BEGIN:STANDARD
TZOFFSETFROM:-0400
TZOFFSETTO:-0500
TZNAME:EST
DTSTART:20251102T060000
END:STANDARD
BEGIN:DAYLIGHT
TZOFFSETFROM:-0500
TZOFFSETTO:-0400
TZNAME:EDT
DTSTART:20260308T070000
END:DAYLIGHT
BEGIN:STANDARD
TZOFFSETFROM:-0400
TZOFFSETTO:-0500
TZNAME:EST
DTSTART:20261101T060000
END:STANDARD
BEGIN:DAYLIGHT
TZOFFSETFROM:-0500
TZOFFSETTO:-0400
TZNAME:EDT
DTSTART:20270314T070000
END:DAYLIGHT
BEGIN:STANDARD
TZOFFSETFROM:-0400
TZOFFSETTO:-0500
TZNAME:EST
DTSTART:20271107T060000
END:STANDARD
END:VTIMEZONE
BEGIN:VEVENT
DTSTART;TZID=America/New_York:20260424T190000
DTEND;TZID=America/New_York:20260424T233000
DTSTAMP:20260424T003705
CREATED:20260214T102625Z
LAST-MODIFIED:20260304T133328Z
UID:10000052-1777057200-1777073400@alsbar.com
SUMMARY:Poker Tournament
DESCRIPTION:
URL:https://alsbar.com/event/poker-competition/2026-04-24/
LOCATION:Al’s Sports Bar\, 16203 Westheimer Rd. #102\, Houston\, TX\, 77082\, United States
ATTACH;FMTTYPE=image/webp:https://alsbar.com/wp-content/uploads/2026/02/gettyimages-155357505-2048x2048-1.webp
END:VEVENT
BEGIN:VEVENT
DTSTART;TZID=America/New_York:20260425T190000
DTEND;TZID=America/New_York:20260425T233000
DTSTAMP:20260424T003705
CREATED:20260214T102625Z
LAST-MODIFIED:20260304T133328Z
UID:10000053-1777143600-1777159800@alsbar.com
SUMMARY:Poker Tournament
DESCRIPTION:
URL:https://alsbar.com/event/poker-competition/2026-04-25/
LOCATION:Al’s Sports Bar\, 16203 Westheimer Rd. #102\, Houston\, TX\, 77082\, United States
ATTACH;FMTTYPE=image/webp:https://alsbar.com/wp-content/uploads/2026/02/gettyimages-155357505-2048x2048-1.webp
END:VEVENT
BEGIN:VEVENT
DTSTART;TZID=America/New_York:20260425T190000
DTEND;TZID=America/New_York:20260425T233000
DTSTAMP:20260424T003705
CREATED:20260317T141255Z
LAST-MODIFIED:20260317T141255Z
UID:10004712-1777143600-1777159800@alsbar.com
SUMMARY:UFC Fight Night
DESCRIPTION:Click here for the main fight page!
URL:https://alsbar.com/event/ufc-fight-night-6/
LOCATION:Al’s Sports Bar\, 16203 Westheimer Rd. #102\, Houston\, TX\, 77082\, United States
ATTACH;FMTTYPE=image/jpeg:https://alsbar.com/wp-content/uploads/2026/03/Untitled-2.jpg
END:VEVENT
BEGIN:VEVENT
DTSTART;TZID=America/New_York:20260426T190000
DTEND;TZID=America/New_York:20260426T233000
DTSTAMP:20260424T003705
CREATED:20260214T102625Z
LAST-MODIFIED:20260304T133328Z
UID:10000054-1777230000-1777246200@alsbar.com
SUMMARY:Poker Tournament
DESCRIPTION:
URL:https://alsbar.com/event/poker-competition/2026-04-26/
LOCATION:Al’s Sports Bar\, 16203 Westheimer Rd. #102\, Houston\, TX\, 77082\, United States
ATTACH;FMTTYPE=image/webp:https://alsbar.com/wp-content/uploads/2026/02/gettyimages-155357505-2048x2048-1.webp
END:VEVENT
BEGIN:VEVENT
DTSTART;VALUE=DATE:20260427
DTEND;VALUE=DATE:20260428
DTSTAMP:20260424T003705
CREATED:20260304T183540Z
LAST-MODIFIED:20260304T183540Z
UID:10004188-1777248000-1777334399@alsbar.com
SUMMARY:Free Pool!
DESCRIPTION:Free Pool all day on Mondays!
URL:https://alsbar.com/event/free-pool/2026-04-27/
LOCATION:Al’s Sports Bar\, 16203 Westheimer Rd. #102\, Houston\, TX\, 77082\, United States
ATTACH;FMTTYPE=image/jpeg:https://alsbar.com/wp-content/uploads/2026/03/billiards-main.jpg
END:VEVENT
BEGIN:VEVENT
DTSTART;TZID=America/New_York:20260427T183000
DTEND;TZID=America/New_York:20260427T220000
DTSTAMP:20260424T003705
CREATED:20260304T144621Z
LAST-MODIFIED:20260304T152224Z
UID:10003140-1777314600-1777327200@alsbar.com
SUMMARY:Steak Night!
DESCRIPTION:Join Eddie “The Grillfather” for a delicious Steak or Pork Chop!
URL:https://alsbar.com/event/steak-night/2026-04-27/
LOCATION:Al’s Sports Bar\, 16203 Westheimer Rd. #102\, Houston\, TX\, 77082\, United States
ATTACH;FMTTYPE=image/png:https://alsbar.com/wp-content/uploads/2026/03/1000034029.png
END:VEVENT
BEGIN:VEVENT
DTSTART;TZID=America/New_York:20260427T190000
DTEND;TZID=America/New_York:20260427T233000
DTSTAMP:20260424T003705
CREATED:20260214T102625Z
LAST-MODIFIED:20260304T133328Z
UID:10000055-1777316400-1777332600@alsbar.com
SUMMARY:Poker Tournament
DESCRIPTION:
URL:https://alsbar.com/event/poker-competition/2026-04-27/
LOCATION:Al’s Sports Bar\, 16203 Westheimer Rd. #102\, Houston\, TX\, 77082\, United States
ATTACH;FMTTYPE=image/webp:https://alsbar.com/wp-content/uploads/2026/02/gettyimages-155357505-2048x2048-1.webp
END:VEVENT
BEGIN:VEVENT
DTSTART;TZID=America/New_York:20260428T190000
DTEND;TZID=America/New_York:20260428T233000
DTSTAMP:20260424T003705
CREATED:20260214T102625Z
LAST-MODIFIED:20260304T133328Z
UID:10000056-1777402800-1777419000@alsbar.com
SUMMARY:Poker Tournament
DESCRIPTION:
URL:https://alsbar.com/event/poker-competition/2026-04-28/
LOCATION:Al’s Sports Bar\, 16203 Westheimer Rd. #102\, Houston\, TX\, 77082\, United States
ATTACH;FMTTYPE=image/webp:https://alsbar.com/wp-content/uploads/2026/02/gettyimages-155357505-2048x2048-1.webp
END:VEVENT
BEGIN:VEVENT
DTSTART;TZID=America/New_York:20260428T190000
DTEND;TZID=America/New_York:20260428T233000
DTSTAMP:20260424T003705
CREATED:20260304T151852Z
LAST-MODIFIED:20260304T152654Z
UID:10002879-1777402800-1777419000@alsbar.com
SUMMARY:Teddy's Smokin' Grill
DESCRIPTION:His food will make you fall in love with him\, and you’ll have a new friend!
URL:https://alsbar.com/event/teddys-smokin-grill/2026-04-28/
LOCATION:Al’s Sports Bar\, 16203 Westheimer Rd. #102\, Houston\, TX\, 77082\, United States
ATTACH;FMTTYPE=image/png:https://alsbar.com/wp-content/uploads/2026/03/1000034029.png
END:VEVENT
BEGIN:VEVENT
DTSTART;TZID=America/New_York:20260429T173000
DTEND;TZID=America/New_York:20260429T200000
DTSTAMP:20260424T003705
CREATED:20260304T134450Z
LAST-MODIFIED:20260304T230709Z
UID:10004450-1777483800-1777492800@alsbar.com
SUMMARY:BINGO!
DESCRIPTION:Weekly Bingo! Cheap to play\, and you can WIN!
URL:https://alsbar.com/event/bingo/2026-04-29/
LOCATION:Al’s Sports Bar\, 16203 Westheimer Rd. #102\, Houston\, TX\, 77082\, United States
ATTACH;FMTTYPE=image/jpeg:https://alsbar.com/wp-content/uploads/2026/03/bingo-balls.jpg
END:VEVENT
BEGIN:VEVENT
DTSTART;TZID=America/New_York:20260429T173000
DTEND;TZID=America/New_York:20260429T200000
DTSTAMP:20260424T003705
CREATED:20260304T154102Z
LAST-MODIFIED:20260304T162353Z
UID:10003928-1777483800-1777492800@alsbar.com
SUMMARY:Willie P's Kick Ass Pizza!
DESCRIPTION:Serving until they run out!
URL:https://alsbar.com/event/willie-ps-kick-ass-pizza/2026-04-29/
LOCATION:TX
ATTACH;FMTTYPE=image/jpeg:https://alsbar.com/wp-content/uploads/2026/03/ec3fc708-f885-4bd3-8721-95aede2c82b6.jpg
END:VEVENT
BEGIN:VEVENT
DTSTART;TZID=America/New_York:20260429T190000
DTEND;TZID=America/New_York:20260429T233000
DTSTAMP:20260424T003705
CREATED:20260214T102625Z
LAST-MODIFIED:20260304T133328Z
UID:10000057-1777489200-1777505400@alsbar.com
SUMMARY:Poker Tournament
DESCRIPTION:
URL:https://alsbar.com/event/poker-competition/2026-04-29/
LOCATION:Al’s Sports Bar\, 16203 Westheimer Rd. #102\, Houston\, TX\, 77082\, United States
ATTACH;FMTTYPE=image/webp:https://alsbar.com/wp-content/uploads/2026/02/gettyimages-155357505-2048x2048-1.webp
END:VEVENT
BEGIN:VEVENT
DTSTART;TZID=America/New_York:20260430T190000
DTEND;TZID=America/New_York:20260430T233000
DTSTAMP:20260424T003705
CREATED:20260214T102625Z
LAST-MODIFIED:20260304T133328Z
UID:10000058-1777575600-1777591800@alsbar.com
SUMMARY:Poker Tournament
DESCRIPTION:
URL:https://alsbar.com/event/poker-competition/2026-04-30/
LOCATION:Al’s Sports Bar\, 16203 Westheimer Rd. #102\, Houston\, TX\, 77082\, United States
ATTACH;FMTTYPE=image/webp:https://alsbar.com/wp-content/uploads/2026/02/gettyimages-155357505-2048x2048-1.webp
END:VEVENT
BEGIN:VEVENT
DTSTART;TZID=America/New_York:20260501T190000
DTEND;TZID=America/New_York:20260501T233000
DTSTAMP:20260424T003705
CREATED:20260214T102625Z
LAST-MODIFIED:20260304T133328Z
UID:10000059-1777662000-1777678200@alsbar.com
SUMMARY:Poker Tournament
DESCRIPTION:
URL:https://alsbar.com/event/poker-competition/2026-05-01/
LOCATION:Al’s Sports Bar\, 16203 Westheimer Rd. #102\, Houston\, TX\, 77082\, United States
ATTACH;FMTTYPE=image/webp:https://alsbar.com/wp-content/uploads/2026/02/gettyimages-155357505-2048x2048-1.webp
END:VEVENT
BEGIN:VEVENT
DTSTART;TZID=America/New_York:20260502T190000
DTEND;TZID=America/New_York:20260502T233000
DTSTAMP:20260424T003705
CREATED:20260214T102625Z
LAST-MODIFIED:20260304T133328Z
UID:10000060-1777748400-1777764600@alsbar.com
SUMMARY:Poker Tournament
DESCRIPTION:
URL:https://alsbar.com/event/poker-competition/2026-05-02/
LOCATION:Al’s Sports Bar\, 16203 Westheimer Rd. #102\, Houston\, TX\, 77082\, United States
ATTACH;FMTTYPE=image/webp:https://alsbar.com/wp-content/uploads/2026/02/gettyimages-155357505-2048x2048-1.webp
END:VEVENT
BEGIN:VEVENT
DTSTART;TZID=America/New_York:20260502T190000
DTEND;TZID=America/New_York:20260502T233000
DTSTAMP:20260424T003705
CREATED:20260317T141523Z
LAST-MODIFIED:20260317T141523Z
UID:10004713-1777748400-1777764600@alsbar.com
SUMMARY:UFC Fight Night
DESCRIPTION:Click here for the main fight page!
URL:https://alsbar.com/event/ufc-fight-night-7/
LOCATION:Al’s Sports Bar\, 16203 Westheimer Rd. #102\, Houston\, TX\, 77082\, United States
ATTACH;FMTTYPE=image/jpeg:https://alsbar.com/wp-content/uploads/2026/03/Untitled-3.jpg
END:VEVENT
BEGIN:VEVENT
DTSTART;TZID=America/New_York:20260503T190000
DTEND;TZID=America/New_York:20260503T233000
DTSTAMP:20260424T003705
CREATED:20260214T102625Z
LAST-MODIFIED:20260304T133328Z
UID:10000061-1777834800-1777851000@alsbar.com
SUMMARY:Poker Tournament
DESCRIPTION:
URL:https://alsbar.com/event/poker-competition/2026-05-03/
LOCATION:Al’s Sports Bar\, 16203 Westheimer Rd. #102\, Houston\, TX\, 77082\, United States
ATTACH;FMTTYPE=image/webp:https://alsbar.com/wp-content/uploads/2026/02/gettyimages-155357505-2048x2048-1.webp
END:VEVENT
BEGIN:VEVENT
DTSTART;VALUE=DATE:20260504
DTEND;VALUE=DATE:20260505
DTSTAMP:20260424T003705
CREATED:20260304T183540Z
LAST-MODIFIED:20260304T183540Z
UID:10004189-1777852800-1777939199@alsbar.com
SUMMARY:Free Pool!
DESCRIPTION:Free Pool all day on Mondays!
URL:https://alsbar.com/event/free-pool/2026-05-04/
LOCATION:Al’s Sports Bar\, 16203 Westheimer Rd. #102\, Houston\, TX\, 77082\, United States
ATTACH;FMTTYPE=image/jpeg:https://alsbar.com/wp-content/uploads/2026/03/billiards-main.jpg
END:VEVENT
BEGIN:VEVENT
DTSTART;TZID=America/New_York:20260504T183000
DTEND;TZID=America/New_York:20260504T220000
DTSTAMP:20260424T003705
CREATED:20260304T144621Z
LAST-MODIFIED:20260304T152224Z
UID:10003141-1777919400-1777932000@alsbar.com
SUMMARY:Steak Night!
DESCRIPTION:Join Eddie “The Grillfather” for a delicious Steak or Pork Chop!
URL:https://alsbar.com/event/steak-night/2026-05-04/
LOCATION:Al’s Sports Bar\, 16203 Westheimer Rd. #102\, Houston\, TX\, 77082\, United States
ATTACH;FMTTYPE=image/png:https://alsbar.com/wp-content/uploads/2026/03/1000034029.png
END:VEVENT
BEGIN:VEVENT
DTSTART;TZID=America/New_York:20260504T190000
DTEND;TZID=America/New_York:20260504T233000
DTSTAMP:20260424T003705
CREATED:20260214T102625Z
LAST-MODIFIED:20260304T133328Z
UID:10000062-1777921200-1777937400@alsbar.com
SUMMARY:Poker Tournament
DESCRIPTION:
URL:https://alsbar.com/event/poker-competition/2026-05-04/
LOCATION:Al’s Sports Bar\, 16203 Westheimer Rd. #102\, Houston\, TX\, 77082\, United States
ATTACH;FMTTYPE=image/webp:https://alsbar.com/wp-content/uploads/2026/02/gettyimages-155357505-2048x2048-1.webp
END:VEVENT
BEGIN:VEVENT
DTSTART;TZID=America/New_York:20260505T190000
DTEND;TZID=America/New_York:20260505T233000
DTSTAMP:20260424T003705
CREATED:20260214T102625Z
LAST-MODIFIED:20260304T133328Z
UID:10000063-1778007600-1778023800@alsbar.com
SUMMARY:Poker Tournament
DESCRIPTION:
URL:https://alsbar.com/event/poker-competition/2026-05-05/
LOCATION:Al’s Sports Bar\, 16203 Westheimer Rd. #102\, Houston\, TX\, 77082\, United States
ATTACH;FMTTYPE=image/webp:https://alsbar.com/wp-content/uploads/2026/02/gettyimages-155357505-2048x2048-1.webp
END:VEVENT
BEGIN:VEVENT
DTSTART;TZID=America/New_York:20260505T190000
DTEND;TZID=America/New_York:20260505T233000
DTSTAMP:20260424T003706
CREATED:20260304T151852Z
LAST-MODIFIED:20260304T152654Z
UID:10002880-1778007600-1778023800@alsbar.com
SUMMARY:Teddy's Smokin' Grill
DESCRIPTION:His food will make you fall in love with him\, and you’ll have a new friend!
URL:https://alsbar.com/event/teddys-smokin-grill/2026-05-05/
LOCATION:Al’s Sports Bar\, 16203 Westheimer Rd. #102\, Houston\, TX\, 77082\, United States
ATTACH;FMTTYPE=image/png:https://alsbar.com/wp-content/uploads/2026/03/1000034029.png
END:VEVENT
BEGIN:VEVENT
DTSTART;TZID=America/New_York:20260506T173000
DTEND;TZID=America/New_York:20260506T200000
DTSTAMP:20260424T003706
CREATED:20260304T134450Z
LAST-MODIFIED:20260304T230709Z
UID:10004451-1778088600-1778097600@alsbar.com
SUMMARY:BINGO!
DESCRIPTION:Weekly Bingo! Cheap to play\, and you can WIN!
URL:https://alsbar.com/event/bingo/2026-05-06/
LOCATION:Al’s Sports Bar\, 16203 Westheimer Rd. #102\, Houston\, TX\, 77082\, United States
ATTACH;FMTTYPE=image/jpeg:https://alsbar.com/wp-content/uploads/2026/03/bingo-balls.jpg
END:VEVENT
BEGIN:VEVENT
DTSTART;TZID=America/New_York:20260506T173000
DTEND;TZID=America/New_York:20260506T200000
DTSTAMP:20260424T003706
CREATED:20260304T154102Z
LAST-MODIFIED:20260304T162353Z
UID:10003929-1778088600-1778097600@alsbar.com
SUMMARY:Willie P's Kick Ass Pizza!
DESCRIPTION:Serving until they run out!
URL:https://alsbar.com/event/willie-ps-kick-ass-pizza/2026-05-06/
LOCATION:TX
ATTACH;FMTTYPE=image/jpeg:https://alsbar.com/wp-content/uploads/2026/03/ec3fc708-f885-4bd3-8721-95aede2c82b6.jpg
END:VEVENT
BEGIN:VEVENT
DTSTART;TZID=America/New_York:20260506T190000
DTEND;TZID=America/New_York:20260506T233000
DTSTAMP:20260424T003706
CREATED:20260214T102625Z
LAST-MODIFIED:20260304T133328Z
UID:10000064-1778094000-1778110200@alsbar.com
SUMMARY:Poker Tournament
DESCRIPTION:
URL:https://alsbar.com/event/poker-competition/2026-05-06/
LOCATION:Al’s Sports Bar\, 16203 Westheimer Rd. #102\, Houston\, TX\, 77082\, United States
ATTACH;FMTTYPE=image/webp:https://alsbar.com/wp-content/uploads/2026/02/gettyimages-155357505-2048x2048-1.webp
END:VEVENT
BEGIN:VEVENT
DTSTART;TZID=America/New_York:20260507T190000
DTEND;TZID=America/New_York:20260507T233000
DTSTAMP:20260424T003706
CREATED:20260214T102625Z
LAST-MODIFIED:20260304T133328Z
UID:10000065-1778180400-1778196600@alsbar.com
SUMMARY:Poker Tournament
DESCRIPTION:
URL:https://alsbar.com/event/poker-competition/2026-05-07/
LOCATION:Al’s Sports Bar\, 16203 Westheimer Rd. #102\, Houston\, TX\, 77082\, United States
ATTACH;FMTTYPE=image/webp:https://alsbar.com/wp-content/uploads/2026/02/gettyimages-155357505-2048x2048-1.webp
END:VEVENT
BEGIN:VEVENT
DTSTART;TZID=America/New_York:20260508T190000
DTEND;TZID=America/New_York:20260508T233000
DTSTAMP:20260424T003706
CREATED:20260214T102625Z
LAST-MODIFIED:20260304T133328Z
UID:10000066-1778266800-1778283000@alsbar.com
SUMMARY:Poker Tournament
DESCRIPTION:
URL:https://alsbar.com/event/poker-competition/2026-05-08/
LOCATION:Al’s Sports Bar\, 16203 Westheimer Rd. #102\, Houston\, TX\, 77082\, United States
ATTACH;FMTTYPE=image/webp:https://alsbar.com/wp-content/uploads/2026/02/gettyimages-155357505-2048x2048-1.webp
END:VEVENT
BEGIN:VEVENT
DTSTART;TZID=America/New_York:20260509T190000
DTEND;TZID=America/New_York:20260509T233000
DTSTAMP:20260424T003706
CREATED:20260214T102625Z
LAST-MODIFIED:20260304T133328Z
UID:10000067-1778353200-1778369400@alsbar.com
SUMMARY:Poker Tournament
DESCRIPTION:
URL:https://alsbar.com/event/poker-competition/2026-05-09/
LOCATION:Al’s Sports Bar\, 16203 Westheimer Rd. #102\, Houston\, TX\, 77082\, United States
ATTACH;FMTTYPE=image/webp:https://alsbar.com/wp-content/uploads/2026/02/gettyimages-155357505-2048x2048-1.webp
END:VEVENT
BEGIN:VEVENT
DTSTART;TZID=America/New_York:20260509T190000
DTEND;TZID=America/New_York:20260509T233000
DTSTAMP:20260424T003706
CREATED:20260317T141803Z
LAST-MODIFIED:20260317T141803Z
UID:10004714-1778353200-1778369400@alsbar.com
SUMMARY:UFC 328 Chimaev vs Strickland
DESCRIPTION:Click here for the main fight page!
URL:https://alsbar.com/event/ufc-328-chimaev-vs-strickland/
LOCATION:Al’s Sports Bar\, 16203 Westheimer Rd. #102\, Houston\, TX\, 77082\, United States
ATTACH;FMTTYPE=image/jpeg:https://alsbar.com/wp-content/uploads/2026/03/Untitled-4.jpg
END:VEVENT
BEGIN:VEVENT
DTSTART;TZID=America/New_York:20260510T190000
DTEND;TZID=America/New_York:20260510T233000
DTSTAMP:20260424T003706
CREATED:20260214T102625Z
LAST-MODIFIED:20260304T133328Z
UID:10000068-1778439600-1778455800@alsbar.com
SUMMARY:Poker Tournament
DESCRIPTION:
URL:https://alsbar.com/event/poker-competition/2026-05-10/
LOCATION:Al’s Sports Bar\, 16203 Westheimer Rd. #102\, Houston\, TX\, 77082\, United States
ATTACH;FMTTYPE=image/webp:https://alsbar.com/wp-content/uploads/2026/02/gettyimages-155357505-2048x2048-1.webp
END:VEVENT
END:VCALENDAR